BEGIN:VCALENDAR
VERSION:2.0
PRODID:-//Max-Brauer-Schule - ECPv6.15.20//NONSGML v1.0//EN
CALSCALE:GREGORIAN
METHOD:PUBLISH
X-ORIGINAL-URL:https://www.maxbrauerschule.de
X-WR-CALDESC:Veranstaltungen für Max-Brauer-Schule
REFRESH-INTERVAL;VALUE=DURATION:PT1H
X-Robots-Tag:noindex
X-PUBLISHED-TTL:PT1H
BEGIN:VTIMEZONE
TZID:Europe/Berlin
BEGIN:DAYLIGHT
TZOFFSETFROM:+0100
TZOFFSETTO:+0200
TZNAME:CEST
DTSTART:20240331T010000
END:DAYLIGHT
BEGIN:STANDARD
TZOFFSETFROM:+0200
TZOFFSETTO:+0100
TZNAME:CET
DTSTART:20241027T010000
END:STANDARD
BEGIN:DAYLIGHT
TZOFFSETFROM:+0100
TZOFFSETTO:+0200
TZNAME:CEST
DTSTART:20250330T010000
END:DAYLIGHT
BEGIN:STANDARD
TZOFFSETFROM:+0200
TZOFFSETTO:+0100
TZNAME:CET
DTSTART:20251026T010000
END:STANDARD
BEGIN:DAYLIGHT
TZOFFSETFROM:+0100
TZOFFSETTO:+0200
TZNAME:CEST
DTSTART:20260329T010000
END:DAYLIGHT
BEGIN:STANDARD
TZOFFSETFROM:+0200
TZOFFSETTO:+0100
TZNAME:CET
DTSTART:20261025T010000
END:STANDARD
END:VTIMEZONE
BEGIN:VEVENT
DTSTART;VALUE=DATE:20251010
DTEND;VALUE=DATE:20251011
DTSTAMP:20260424T104312
CREATED:20241002T093444Z
LAST-MODIFIED:20251010T001326Z
UID:6728-1760054400-1760140799@www.maxbrauerschule.de
SUMMARY:(S)ELG-Tag der Grundschule (unterrichtsfrei)
DESCRIPTION:
URL:https://www.maxbrauerschule.de/termin/selg-der-grundschule-unterrichtsfrei/
CATEGORIES:Ferien/Unterrichtsfrei,SELG
END:VEVENT
BEGIN:VEVENT
DTSTART;TZID=Europe/Berlin:20251010T183000
DTEND;TZID=Europe/Berlin:20251010T210000
DTSTAMP:20260424T104312
CREATED:20251010T004742Z
LAST-MODIFIED:20251010T004819Z
UID:6938-1760121000-1760130000@www.maxbrauerschule.de
SUMMARY:Elternrat - konstituierende Sitzung
DESCRIPTION:
URL:https://www.maxbrauerschule.de/termin/elternrat-konstituierende-sitzung/
CATEGORIES:Elternrat,Schulveranstaltung
END:VEVENT
BEGIN:VEVENT
DTSTART;TZID=Europe/Berlin:20251015T080000
DTEND;TZID=Europe/Berlin:20251015T130000
DTSTAMP:20260424T104312
CREATED:20241002T092451Z
LAST-MODIFIED:20251010T000344Z
UID:6722-1760515200-1760533200@www.maxbrauerschule.de
SUMMARY:English Day der Grundschule
DESCRIPTION:
URL:https://www.maxbrauerschule.de/termin/english-day-der-grundschule/
CATEGORIES:Schulveranstaltung
END:VEVENT
BEGIN:VEVENT
DTSTART;VALUE=DATE:20251018
DTEND;VALUE=DATE:20251103
DTSTAMP:20260424T104312
CREATED:20241002T091731Z
LAST-MODIFIED:20251009T235803Z
UID:6717-1760745600-1762127999@www.maxbrauerschule.de
SUMMARY:Herbstferien
DESCRIPTION:
URL:https://www.maxbrauerschule.de/termin/herbstferien/
CATEGORIES:Ferien/Unterrichtsfrei
END:VEVENT
END:VCALENDAR